BEGIN:VCALENDAR
VERSION:2.0
PRODID:-//HSV De Snoek Wolvega - ECPv6.15.20//NONSGML v1.0//EN
CALSCALE:GREGORIAN
METHOD:PUBLISH
X-WR-CALNAME:HSV De Snoek Wolvega
X-ORIGINAL-URL:https://desnoek.nl
X-WR-CALDESC:Evenementen voor HSV De Snoek Wolvega
REFRESH-INTERVAL;VALUE=DURATION:PT1H
X-Robots-Tag:noindex
X-PUBLISHED-TTL:PT1H
BEGIN:VTIMEZONE
TZID:Europe/Amsterdam
BEGIN:DAYLIGHT
TZOFFSETFROM:+0100
TZOFFSETTO:+0200
TZNAME:CEST
DTSTART:20230326T010000
END:DAYLIGHT
BEGIN:STANDARD
TZOFFSETFROM:+0200
TZOFFSETTO:+0100
TZNAME:CET
DTSTART:20231029T010000
END:STANDARD
BEGIN:DAYLIGHT
TZOFFSETFROM:+0100
TZOFFSETTO:+0200
TZNAME:CEST
DTSTART:20240331T010000
END:DAYLIGHT
BEGIN:STANDARD
TZOFFSETFROM:+0200
TZOFFSETTO:+0100
TZNAME:CET
DTSTART:20241027T010000
END:STANDARD
BEGIN:DAYLIGHT
TZOFFSETFROM:+0100
TZOFFSETTO:+0200
TZNAME:CEST
DTSTART:20250330T010000
END:DAYLIGHT
BEGIN:STANDARD
TZOFFSETFROM:+0200
TZOFFSETTO:+0100
TZNAME:CET
DTSTART:20251026T010000
END:STANDARD
END:VTIMEZONE
BEGIN:VEVENT
DTSTART;TZID=Europe/Amsterdam:20240901T073000
DTEND;TZID=Europe/Amsterdam:20240901T113000
DTSTAMP:20260425T181040
CREATED:20231228T184003Z
LAST-MODIFIED:20241217T064938Z
UID:4443-1725175800-1725190200@desnoek.nl
SUMMARY:Gezelligheidswedstrijd
DESCRIPTION:Om mee te kunnen doen\, dien je je in te schrijven via het inschrijfformulier.Geen inschrijving\, geen deelname.  Keuze uit de vakken vaste stok en feeder. Bij inschrijving vermelden!!!Keuze kenbaar maken bij opmerkingen op het inschrijfformulier.  Uiterlijke inschrijfdatum: woendag 12 augustus  2026 18:00 uur Inschrijfgeld:  Lidmaatschap vereist Wedstrijd: Nationaal Loting: 7:00 bij het gemaal aan de Kerkhofslaan. Water: Helomavaart Sportvisserijtype: Witvissen Doelgroep: Heren\, dames\, junioren We sluiten deze wedstrijd gezellig af na afloop.
URL:https://desnoek.nl/events/gezelligheidswedstrijd-2024/
LOCATION:Helomavaart
CATEGORIES:Gezelligheidswedstrijd
ORGANIZER;CN="HSV De Snoek":MAILTO:wedstrijdcommissie@desnoek.nl
END:VEVENT
END:VCALENDAR