BEGIN:VCALENDAR
VERSION:2.0
PRODID:-//HSV De Snoek Wolvega - ECPv6.15.20//NONSGML v1.0//EN
CALSCALE:GREGORIAN
METHOD:PUBLISH
X-ORIGINAL-URL:https://desnoek.nl
X-WR-CALDESC:Evenementen voor HSV De Snoek Wolvega
REFRESH-INTERVAL;VALUE=DURATION:PT1H
X-Robots-Tag:noindex
X-PUBLISHED-TTL:PT1H
BEGIN:VTIMEZONE
TZID:Europe/Amsterdam
BEGIN:DAYLIGHT
TZOFFSETFROM:+0100
TZOFFSETTO:+0200
TZNAME:CEST
DTSTART:20220327T010000
END:DAYLIGHT
BEGIN:STANDARD
TZOFFSETFROM:+0200
TZOFFSETTO:+0100
TZNAME:CET
DTSTART:20221030T010000
END:STANDARD
BEGIN:DAYLIGHT
TZOFFSETFROM:+0100
TZOFFSETTO:+0200
TZNAME:CEST
DTSTART:20230326T010000
END:DAYLIGHT
BEGIN:STANDARD
TZOFFSETFROM:+0200
TZOFFSETTO:+0100
TZNAME:CET
DTSTART:20231029T010000
END:STANDARD
BEGIN:DAYLIGHT
TZOFFSETFROM:+0100
TZOFFSETTO:+0200
TZNAME:CEST
DTSTART:20240331T010000
END:DAYLIGHT
BEGIN:STANDARD
TZOFFSETFROM:+0200
TZOFFSETTO:+0100
TZNAME:CET
DTSTART:20241027T010000
END:STANDARD
END:VTIMEZONE
BEGIN:VEVENT
DTSTART;TZID=Europe/Amsterdam:20230709T073000
DTEND;TZID=Europe/Amsterdam:20230709T113000
DTSTAMP:20260420T004453
CREATED:20230105T125602Z
LAST-MODIFIED:20241217T070224Z
UID:3475-1688887800-1688902200@desnoek.nl
SUMMARY:Vrije koppel
DESCRIPTION:Om mee te kunnen doen dien je je in te schrijven via het inschrijfformulier. Geen inschrijving\, geen deelname. \nUiterlijke inschrijfdatum: woensdag 29-04-2026 18:00 \nInschrijfgeld:  Lidmaatschap vereist \nLoting: 07:00 Bij het gemaal aan de Kerkhofslaan. \nLocatie: Helomavaart \nWedstrijd: Nationaal \nWater: Zoet \nSportvisserijtype: Witvissen \nDoelgroep: Heren\, dames\, junioren \nJe mag voor deze wedstrijd een introduce meenemen\, mits deze in het bezit is van een Fiskfergunning (Vergunning Friesland). \n \n \n \n \n 
URL:https://desnoek.nl/events/vrije-koppel-2023/
LOCATION:Mildam
CATEGORIES:Vrije koppel
ORGANIZER;CN="HSV De Snoek":MAILTO:wedstrijdcommissie@desnoek.nl
END:VEVENT
END:VCALENDAR