BEGIN:VCALENDAR
VERSION:2.0
PRODID:-//HSV De Snoek Wolvega - ECPv6.15.20//NONSGML v1.0//EN
CALSCALE:GREGORIAN
METHOD:PUBLISH
X-ORIGINAL-URL:https://desnoek.nl
X-WR-CALDESC:Evenementen voor HSV De Snoek Wolvega
REFRESH-INTERVAL;VALUE=DURATION:PT1H
X-Robots-Tag:noindex
X-PUBLISHED-TTL:PT1H
BEGIN:VTIMEZONE
TZID:Europe/Amsterdam
BEGIN:DAYLIGHT
TZOFFSETFROM:+0100
TZOFFSETTO:+0200
TZNAME:CEST
DTSTART:20210328T010000
END:DAYLIGHT
BEGIN:STANDARD
TZOFFSETFROM:+0200
TZOFFSETTO:+0100
TZNAME:CET
DTSTART:20211031T010000
END:STANDARD
BEGIN:DAYLIGHT
TZOFFSETFROM:+0100
TZOFFSETTO:+0200
TZNAME:CEST
DTSTART:20220327T010000
END:DAYLIGHT
BEGIN:STANDARD
TZOFFSETFROM:+0200
TZOFFSETTO:+0100
TZNAME:CET
DTSTART:20221030T010000
END:STANDARD
BEGIN:DAYLIGHT
TZOFFSETFROM:+0100
TZOFFSETTO:+0200
TZNAME:CEST
DTSTART:20230326T010000
END:DAYLIGHT
BEGIN:STANDARD
TZOFFSETFROM:+0200
TZOFFSETTO:+0100
TZNAME:CET
DTSTART:20231029T010000
END:STANDARD
BEGIN:DAYLIGHT
TZOFFSETFROM:+0100
TZOFFSETTO:+0200
TZNAME:CEST
DTSTART:20240331T010000
END:DAYLIGHT
BEGIN:STANDARD
TZOFFSETFROM:+0200
TZOFFSETTO:+0100
TZNAME:CET
DTSTART:20241027T010000
END:STANDARD
BEGIN:DAYLIGHT
TZOFFSETFROM:+0100
TZOFFSETTO:+0200
TZNAME:CEST
DTSTART:20250330T010000
END:DAYLIGHT
BEGIN:STANDARD
TZOFFSETFROM:+0200
TZOFFSETTO:+0100
TZNAME:CET
DTSTART:20251026T010000
END:STANDARD
BEGIN:DAYLIGHT
TZOFFSETFROM:+0100
TZOFFSETTO:+0200
TZNAME:CEST
DTSTART:20260329T010000
END:DAYLIGHT
BEGIN:STANDARD
TZOFFSETFROM:+0200
TZOFFSETTO:+0100
TZNAME:CET
DTSTART:20261025T010000
END:STANDARD
END:VTIMEZONE
BEGIN:VEVENT
DTSTART;TZID=Europe/Amsterdam:20250504T073000
DTEND;TZID=Europe/Amsterdam:20250504T113000
DTSTAMP:20260421T222545
CREATED:20250223T161616Z
LAST-MODIFIED:20250504T151315Z
UID:5766-1746343800-1746358200@desnoek.nl
SUMMARY:Weststellingwerfskampioenschap 2025
DESCRIPTION:Deelname alleen voor leden van De Snoek Wolvega\, De Makreel Noordwolde en De Rietvoorn Oldeberkoop. Inschrijven via het inschrijfformulier op deze site verplicht.Geen inschrijving\, geen deelname. Het inleggeld dient ruim voor aanvang van de wedstrijd op de rekening van de wedstrijdcommissie te zijn bijgeschreven. Betaalinstructies volgen na opgave. Uiterlijke inschrijfdatum: Zaterdag 3-05-2025 18:00 uurInschrijfgeld: €6\,50 • Lidmaatschap vereist Locatie: HelomavaartLoting: 06:30 uur bij het gemaal aan de Kerkhofslaan. Prijsuitreiking na afloop bij Het Polderhuus (Sportpark het Scheeneveld)Wedstrijd: NationaalWater: ZoetSportvisserijtype: WitvissenDoelgroep: Heren\, dames\, junioren 								\n				\n					\n		\n					\n		\n				\n						\n					\n			\n						\n				\n									\n					\n						\n						\n							\n									Download de uitslag als PDF
URL:https://desnoek.nl/events/weststellingwerfskampioenschap-2025-2/
LOCATION:Helomavaart
CATEGORIES:Weststellingwerfskampioenschap
ORGANIZER;CN="HSV De Snoek":MAILTO:wedstrijdcommissie@desnoek.nl
END:VEVENT
BEGIN:VEVENT
DTSTART;TZID=Europe/Amsterdam:20240505T073000
DTEND;TZID=Europe/Amsterdam:20240505T113000
DTSTAMP:20260421T222545
CREATED:20231127T210129Z
LAST-MODIFIED:20250223T161308Z
UID:4320-1714894200-1714908600@desnoek.nl
SUMMARY:Weststellingwerfskampioenschap
DESCRIPTION:Deelname alleen voor leden van De Snoek Wolvega\, De Makreel Noordwolde en De Rietvoorn Oldeberkoop. Inschrijven via het inschrijfformulier op deze site verplicht.Geen inschrijving\, geen deelname. Het inleggeld dient ruim voor aanvang van de wedstrijd op de rekening van de wedstrijdcommissie te zijn bijgeschreven. Betaalinstructies volgen na opgave. Uiterlijke inschrijfdatum: Zaterdag 3-05-2025 18:00 uurInschrijfgeld: €6\,50 • Lidmaatschap vereist Locatie: HelomavaartLoting: 06:30 uur bij het gemaal aan de Kerkhofslaan. Prijsuitreiking na afloop bij Het Polderhuus (Sportpark het Scheeneveld)Wedstrijd: NationaalWater: ZoetSportvisserijtype: WitvissenDoelgroep: Heren\, dames\, junioren 								\n				\n					\n		\n					\n		\n				\n						\n					\n			\n						\n				\n									\n					\n						\n						\n							\n									Download de uitslag als PDF
URL:https://desnoek.nl/events/weststellingwerfskampioenschap-2025/
LOCATION:Helomavaart
CATEGORIES:Weststellingwerfskampioenschap
ORGANIZER;CN="HSV De Snoek":MAILTO:wedstrijdcommissie@desnoek.nl
END:VEVENT
BEGIN:VEVENT
DTSTART;TZID=Europe/Amsterdam:20230507T073000
DTEND;TZID=Europe/Amsterdam:20230507T113000
DTSTAMP:20260421T222545
CREATED:20230101T112607Z
LAST-MODIFIED:20230507T153905Z
UID:3366-1683444600-1683459000@desnoek.nl
SUMMARY:Weststellingwerfskampioenschap
DESCRIPTION:Deelname alleen voor leden van De Snoek Wolvega\, De Makreel Noordwolde en De Rietvoorn Oldeberkoop. Inschrijven via het inschrijfformulier op deze site verplicht.Geen inschrijving\, geen deelname. Het inleggeld dient ruim voor aanvang van de wedstrijd op de rekening van de wedstrijdcommissie te zijn bijgeschreven. Betaalinstructies volgen na opgave. Uiterlijke inschrijfdatum: Zaterdag 3-05-2025 18:00 uurInschrijfgeld: €6\,50 • Lidmaatschap vereist Locatie: HelomavaartLoting: 06:30 uur bij het gemaal aan de Kerkhofslaan. Prijsuitreiking na afloop bij Het Polderhuus (Sportpark het Scheeneveld)Wedstrijd: NationaalWater: ZoetSportvisserijtype: WitvissenDoelgroep: Heren\, dames\, junioren 								\n				\n					\n		\n					\n		\n				\n						\n					\n			\n						\n				\n									\n					\n						\n						\n							\n									Download de uitslag als PDF
URL:https://desnoek.nl/events/weststellingwerfskampioenschap-2023/
LOCATION:Helomavaart
CATEGORIES:Weststellingwerfskampioenschap
ORGANIZER;CN="HSV De Snoek":MAILTO:wedstrijdcommissie@desnoek.nl
END:VEVENT
BEGIN:VEVENT
DTSTART;TZID=Europe/Amsterdam:20220501T073000
DTEND;TZID=Europe/Amsterdam:20220501T113000
DTSTAMP:20260421T222545
CREATED:20220516T125016Z
LAST-MODIFIED:20241217T074358Z
UID:788-1651390200-1651404600@desnoek.nl
SUMMARY:Weststellingwerfskampioenschap
DESCRIPTION:Deelname alleen voor leden van De Snoek Wolvega\, De Makreel Noordwolde en De Rietvoorn Oldeberkoop. Inschrijven via het inschrijfformulier op deze site verplicht.Geen inschrijving\, geen deelname. Het inleggeld dient ruim voor aanvang van de wedstrijd op de rekening van de wedstrijdcommissie te zijn bijgeschreven. Betaalinstructies volgen na opgave. Uiterlijke inschrijfdatum: Zaterdag 3-05-2025 18:00 uurInschrijfgeld: €6\,50 • Lidmaatschap vereist Locatie: HelomavaartLoting: 06:30 uur bij het gemaal aan de Kerkhofslaan. Prijsuitreiking na afloop bij Het Polderhuus (Sportpark het Scheeneveld)Wedstrijd: NationaalWater: ZoetSportvisserijtype: WitvissenDoelgroep: Heren\, dames\, junioren 								\n				\n					\n		\n					\n		\n				\n						\n					\n			\n						\n				\n									\n					\n						\n						\n							\n									Download de uitslag als PDF
URL:https://desnoek.nl/events/weststellingwerfskampioenschap-2022/
LOCATION:Helomavaart
CATEGORIES:Weststellingwerfskampioenschap
ORGANIZER;CN="HSV De Snoek":MAILTO:wedstrijdcommissie@desnoek.nl
END:VEVENT
END:VCALENDAR