BEGIN:VCALENDAR
VERSION:2.0
PRODID:-//HSV De Snoek Wolvega - ECPv6.15.20//NONSGML v1.0//EN
CALSCALE:GREGORIAN
METHOD:PUBLISH
X-WR-CALNAME:HSV De Snoek Wolvega
X-ORIGINAL-URL:https://desnoek.nl
X-WR-CALDESC:Evenementen voor HSV De Snoek Wolvega
REFRESH-INTERVAL;VALUE=DURATION:PT1H
X-Robots-Tag:noindex
X-PUBLISHED-TTL:PT1H
BEGIN:VTIMEZONE
TZID:Europe/Amsterdam
BEGIN:DAYLIGHT
TZOFFSETFROM:+0100
TZOFFSETTO:+0200
TZNAME:CEST
DTSTART:20220327T010000
END:DAYLIGHT
BEGIN:STANDARD
TZOFFSETFROM:+0200
TZOFFSETTO:+0100
TZNAME:CET
DTSTART:20221030T010000
END:STANDARD
BEGIN:DAYLIGHT
TZOFFSETFROM:+0100
TZOFFSETTO:+0200
TZNAME:CEST
DTSTART:20230326T010000
END:DAYLIGHT
BEGIN:STANDARD
TZOFFSETFROM:+0200
TZOFFSETTO:+0100
TZNAME:CET
DTSTART:20231029T010000
END:STANDARD
BEGIN:DAYLIGHT
TZOFFSETFROM:+0100
TZOFFSETTO:+0200
TZNAME:CEST
DTSTART:20240331T010000
END:DAYLIGHT
BEGIN:STANDARD
TZOFFSETFROM:+0200
TZOFFSETTO:+0100
TZNAME:CET
DTSTART:20241027T010000
END:STANDARD
END:VTIMEZONE
BEGIN:VEVENT
DTSTART;TZID=Europe/Amsterdam:20230402T080000
DTEND;TZID=Europe/Amsterdam:20230402T120000
DTSTAMP:20260424T083114
CREATED:20230101T184505Z
LAST-MODIFIED:20241217T070404Z
UID:3372-1680422400-1680436800@desnoek.nl
SUMMARY:Zomercompetitie (1e)
DESCRIPTION:Om mee te kunnen doen\, dien je je in te schrijven via het inschrijfformulier. \nGeen inschrijving\, geen deelname. \nUiterlijke inschrijfdatum: zaterdag 01-04-2023 18:00 uurInschrijfgeld: Lidmaatschap vereistWedstrijd: NationaalWater: ZoetSportvisserijtype: WitvissenDoelgroep: Heren\, dames\, junioren 16+Loting: Tussen 6:45 en 7:00 bij het gemaal aan de Kerkhofslaan.\n			\n						Download de uitslag als PDF
URL:https://desnoek.nl/events/zomercompetitie-1-2023/
LOCATION:Helomavaart 1tm69
CATEGORIES:Zomercompetitie
ORGANIZER;CN="HSV De Snoek":MAILTO:wedstrijdcommissie@desnoek.nl
END:VEVENT
BEGIN:VEVENT
DTSTART;TZID=Europe/Amsterdam:20230416T080000
DTEND;TZID=Europe/Amsterdam:20230416T120000
DTSTAMP:20260424T083114
CREATED:20230101T185054Z
LAST-MODIFIED:20241217T070355Z
UID:3377-1681632000-1681646400@desnoek.nl
SUMMARY:Zomercompetitie (2e)
DESCRIPTION:Om mee te kunnen doen\, dien je je in te schrijven via het inschrijfformulier. \nGeen inschrijving\, geen deelname. \nUiterlijke inschrijfdatum: zaterdag 15-04-2023 18:00 uurInschrijfgeld: Lidmaatschap vereistLoting tussen: 06:45 en 07:00 uur vooraan op het parcours bij de trailerhelling.( Tegenover Bo Rent)Wedstrijd: NationaalWater: ZoetSportvisserijtype: WitvissenDoelgroep: Heren\, dames\, junioren 16+\n			\n						Download de uitslag als PDF
URL:https://desnoek.nl/events/zomercompetitie-2-2023/
LOCATION:Kanaal Heerenveen
CATEGORIES:Zomercompetitie
ORGANIZER;CN="HSV De Snoek":MAILTO:wedstrijdcommissie@desnoek.nl
END:VEVENT
BEGIN:VEVENT
DTSTART;TZID=Europe/Amsterdam:20230430T073000
DTEND;TZID=Europe/Amsterdam:20230430T113000
DTSTAMP:20260424T083114
CREATED:20230101T185828Z
LAST-MODIFIED:20241217T070335Z
UID:3388-1682839800-1682854200@desnoek.nl
SUMMARY:Zomercompetitie (3e)
DESCRIPTION:Om mee te kunnen doen dien je je in te schrijven via het inschrijfformulier. \nGeen inschrijving\, geen deelname. \nUiterlijke inschrijfdatum: zaterdag 30-05-2023 18:00 uurInschrijfgeld: Lidmaatschap vereistLoting tussen: 06:15 en 06:30 uur bij de spoorbrugWedstrijd: NationaalWater: ZoetSportvisserijtype: WitvissenDoelgroep: Heren\, dames\, junioren 16+.\n			\n						Download de uitslag als PDF\n					\n			\n						Download de tussenstand als pdf.
URL:https://desnoek.nl/events/zomercompetitie-3-2023/
LOCATION:P. M. Leppedyk
CATEGORIES:Zomercompetitie
ORGANIZER;CN="HSV De Snoek":MAILTO:wedstrijdcommissie@desnoek.nl
END:VEVENT
END:VCALENDAR