BEGIN:VCALENDAR
VERSION:2.0
PRODID:-//HSV De Snoek Wolvega - ECPv6.15.20//NONSGML v1.0//EN
CALSCALE:GREGORIAN
METHOD:PUBLISH
X-WR-CALNAME:HSV De Snoek Wolvega
X-ORIGINAL-URL:https://desnoek.nl
X-WR-CALDESC:Evenementen voor HSV De Snoek Wolvega
REFRESH-INTERVAL;VALUE=DURATION:PT1H
X-Robots-Tag:noindex
X-PUBLISHED-TTL:PT1H
BEGIN:VTIMEZONE
TZID:Europe/Amsterdam
BEGIN:DAYLIGHT
TZOFFSETFROM:+0100
TZOFFSETTO:+0200
TZNAME:CEST
DTSTART:20220327T010000
END:DAYLIGHT
BEGIN:STANDARD
TZOFFSETFROM:+0200
TZOFFSETTO:+0100
TZNAME:CET
DTSTART:20221030T010000
END:STANDARD
BEGIN:DAYLIGHT
TZOFFSETFROM:+0100
TZOFFSETTO:+0200
TZNAME:CEST
DTSTART:20230326T010000
END:DAYLIGHT
BEGIN:STANDARD
TZOFFSETFROM:+0200
TZOFFSETTO:+0100
TZNAME:CET
DTSTART:20231029T010000
END:STANDARD
BEGIN:DAYLIGHT
TZOFFSETFROM:+0100
TZOFFSETTO:+0200
TZNAME:CEST
DTSTART:20240331T010000
END:DAYLIGHT
BEGIN:STANDARD
TZOFFSETFROM:+0200
TZOFFSETTO:+0100
TZNAME:CET
DTSTART:20241027T010000
END:STANDARD
END:VTIMEZONE
BEGIN:VEVENT
DTSTART;TZID=Europe/Amsterdam:20230604T073000
DTEND;TZID=Europe/Amsterdam:20230604T113000
DTSTAMP:20260423T173934
CREATED:20230101T191903Z
LAST-MODIFIED:20241217T070310Z
UID:3402-1685863800-1685878200@desnoek.nl
SUMMARY:Zomercompetitie (5e)
DESCRIPTION:Om mee te kunnen doen dien je je in te schrijven via het inschrijfformulier. \nGeen inschrijving\, geen deelname. \nUiterlijke inschrijfdatum: zaterdag 03-06-2023 18:00 uurInschrijfgeld: Lidmaatschap vereistWedstrijd: NationaalWater: ZoetSportvisserijtype: WitvissenDoelgroep: Heren\, dames\, junioren 16+ \nLoting: Tussen 6:15 en 6:30. Onderaan de Heerenbrug rechts afslaan en in de richting van Giethoorn rijden. \n			\n						Download de uitslag als PDF\n					\n			\n						Download de uitslag van de tussenstand als PDF
URL:https://desnoek.nl/events/zomercompetitie-5-2023/
LOCATION:Kanaal Steenwijk/Giethoorn
CATEGORIES:Zomercompetitie
ORGANIZER;CN="HSV De Snoek":MAILTO:wedstrijdcommissie@desnoek.nl
END:VEVENT
BEGIN:VEVENT
DTSTART;TZID=Europe/Amsterdam:20230625T073000
DTEND;TZID=Europe/Amsterdam:20230625T113000
DTSTAMP:20260423T173934
CREATED:20230103T173158Z
LAST-MODIFIED:20241217T070252Z
UID:3407-1687678200-1687692600@desnoek.nl
SUMMARY:Zomercompetitie (6e)
DESCRIPTION:Om mee te kunnen doen dien je je in te schrijven via het inschrijfformulier. \nGeen inschrijving\, geen deelname. \nUiterlijke inschrijfdatum: zaterdag 24-06-2023 18:00 uurInschrijfgeld: Lidmaatschap vereistLoting tussen:6:15 en 6:30 ter hoogte van het Urkerdwarspad.Wedstrijd: NationaalWater: ZoetSportvisserijtype: WitvissenDoelgroep: Heren\, dames\, junioren 16+\n			\n						Download de uitslag als PDF\n					\n			\n						Download de tussenstanduitslag als PDF
URL:https://desnoek.nl/events/zomercompetitie-6-2023/
LOCATION:Urkervaart
CATEGORIES:Zomercompetitie
ORGANIZER;CN="HSV De Snoek":MAILTO:wedstrijdcommissie@desnoek.nl
END:VEVENT
END:VCALENDAR