BEGIN:VCALENDAR
VERSION:2.0
PRODID:-//HSV De Snoek Wolvega - ECPv6.15.20//NONSGML v1.0//EN
CALSCALE:GREGORIAN
METHOD:PUBLISH
X-ORIGINAL-URL:https://desnoek.nl
X-WR-CALDESC:Evenementen voor HSV De Snoek Wolvega
REFRESH-INTERVAL;VALUE=DURATION:PT1H
X-Robots-Tag:noindex
X-PUBLISHED-TTL:PT1H
BEGIN:VTIMEZONE
TZID:Europe/Amsterdam
BEGIN:DAYLIGHT
TZOFFSETFROM:+0100
TZOFFSETTO:+0200
TZNAME:CEST
DTSTART:20230326T010000
END:DAYLIGHT
BEGIN:STANDARD
TZOFFSETFROM:+0200
TZOFFSETTO:+0100
TZNAME:CET
DTSTART:20231029T010000
END:STANDARD
BEGIN:DAYLIGHT
TZOFFSETFROM:+0100
TZOFFSETTO:+0200
TZNAME:CEST
DTSTART:20240331T010000
END:DAYLIGHT
BEGIN:STANDARD
TZOFFSETFROM:+0200
TZOFFSETTO:+0100
TZNAME:CET
DTSTART:20241027T010000
END:STANDARD
BEGIN:DAYLIGHT
TZOFFSETFROM:+0100
TZOFFSETTO:+0200
TZNAME:CEST
DTSTART:20250330T010000
END:DAYLIGHT
BEGIN:STANDARD
TZOFFSETFROM:+0200
TZOFFSETTO:+0100
TZNAME:CET
DTSTART:20251026T010000
END:STANDARD
END:VTIMEZONE
BEGIN:VEVENT
DTSTART;TZID=Europe/Amsterdam:20240707T073000
DTEND;TZID=Europe/Amsterdam:20240707T113000
DTSTAMP:20260420T145044
CREATED:20231210T185514Z
LAST-MODIFIED:20241217T065020Z
UID:4369-1720337400-1720351800@desnoek.nl
SUMMARY:Zomercompetitie (6e)
DESCRIPTION:Om mee te kunnen doen dien je je in te schrijven via het inschrijfformulier. \nGeen inschrijving\, geen deelname. \nUiterlijke inschrijfdatum: zaterdag 07-07-2024 18:00 uurInschrijfgeld: Lidmaatschap vereistLoting tussen:6:15 en 6:30 vooraan op het parcours.Wedstrijd: NationaalWater: ZoetSportvisserijtype: WitvissenDoelgroep: Heren\, dames\, junioren 16+\n			\n									Download de uitslag als PDF
URL:https://desnoek.nl/events/zomercompetitie-6-2024/
LOCATION:P. M. Oude Schouw
CATEGORIES:Zomercompetitie
ORGANIZER;CN="HSV De Snoek":MAILTO:wedstrijdcommissie@desnoek.nl
END:VEVENT
BEGIN:VEVENT
DTSTART;TZID=Europe/Amsterdam:20240728T073000
DTEND;TZID=Europe/Amsterdam:20240728T113000
DTSTAMP:20260420T145044
CREATED:20231212T171925Z
LAST-MODIFIED:20241217T064951Z
UID:4374-1722151800-1722166200@desnoek.nl
SUMMARY:Zomercompetitie (7e)
DESCRIPTION:Om mee te kunnen doen dien je je in te schrijven via het inschrijfformulier.Geen inschrijving\, geen deelname. \nUiterlijke inschrijfdatum: zaterdag 27-07-2024 18:00 uurInschrijfgeld: Lidmaatschap vereistLoting tussen: 06:15 en 06:30 bij de trailerhelling (tegenover Borent)Wedstrijd: NationaalWater: ZoetSportvisserijtype: WitvissenDoelgroep: Heren\, dames\, junioren 16+ \n			\n									Download de uitslag als PDF
URL:https://desnoek.nl/events/zomercompetitie-7-2024/
LOCATION:Kanaal Heerenveen
CATEGORIES:Zomercompetitie
ORGANIZER;CN="HSV De Snoek":MAILTO:wedstrijdcommissie@desnoek.nl
END:VEVENT
END:VCALENDAR