BEGIN:VCALENDAR
VERSION:2.0
PRODID:-//HSV De Snoek Wolvega - ECPv6.15.20//NONSGML v1.0//EN
CALSCALE:GREGORIAN
METHOD:PUBLISH
X-WR-CALNAME:HSV De Snoek Wolvega
X-ORIGINAL-URL:https://desnoek.nl
X-WR-CALDESC:Evenementen voor HSV De Snoek Wolvega
REFRESH-INTERVAL;VALUE=DURATION:PT1H
X-Robots-Tag:noindex
X-PUBLISHED-TTL:PT1H
BEGIN:VTIMEZONE
TZID:Europe/Amsterdam
BEGIN:DAYLIGHT
TZOFFSETFROM:+0100
TZOFFSETTO:+0200
TZNAME:CEST
DTSTART:20230326T010000
END:DAYLIGHT
BEGIN:STANDARD
TZOFFSETFROM:+0200
TZOFFSETTO:+0100
TZNAME:CET
DTSTART:20231029T010000
END:STANDARD
BEGIN:DAYLIGHT
TZOFFSETFROM:+0100
TZOFFSETTO:+0200
TZNAME:CEST
DTSTART:20240331T010000
END:DAYLIGHT
BEGIN:STANDARD
TZOFFSETFROM:+0200
TZOFFSETTO:+0100
TZNAME:CET
DTSTART:20241027T010000
END:STANDARD
BEGIN:DAYLIGHT
TZOFFSETFROM:+0100
TZOFFSETTO:+0200
TZNAME:CEST
DTSTART:20250330T010000
END:DAYLIGHT
BEGIN:STANDARD
TZOFFSETFROM:+0200
TZOFFSETTO:+0100
TZNAME:CET
DTSTART:20251026T010000
END:STANDARD
END:VTIMEZONE
BEGIN:VEVENT
DTSTART;TZID=Europe/Amsterdam:20241013T083000
DTEND;TZID=Europe/Amsterdam:20241013T123000
DTSTAMP:20260420T093359
CREATED:20231212T173257Z
LAST-MODIFIED:20241217T064902Z
UID:4390-1728808200-1728822600@desnoek.nl
SUMMARY:Zomercompetitie (10e)
DESCRIPTION:Om mee te kunnen doen\, dien je je in te schrijven via het inschrijfformulier. \nGeen inschrijving\, geen deelname. \nUiterlijke inschrijfdatum: zaterdag 12-10-2024 12:00 uurInschrijfgeld:  Lidmaatschap vereistWedstrijd: NationaalWater: ZoetLoting: tussen 07:15 en 07:30 bij het gemaal aan de Kerkhofslaan.Sportvisserijtype: WitvissenDoelgroep: Heren\, dames\, junioren 16+\n			\n									Download de uitslag als PDF
URL:https://desnoek.nl/events/zomercompetitie-10-2024/
LOCATION:Helomavaart 1tm69
CATEGORIES:Zomercompetitie
ORGANIZER;CN="HSV De Snoek":MAILTO:wedstrijdcommissie@desnoek.nl
END:VEVENT
END:VCALENDAR