BEGIN:VCALENDAR
VERSION:2.0
PRODID:-//HSV De Snoek Wolvega - ECPv6.15.20//NONSGML v1.0//EN
CALSCALE:GREGORIAN
METHOD:PUBLISH
X-ORIGINAL-URL:https://desnoek.nl
X-WR-CALDESC:Evenementen voor HSV De Snoek Wolvega
REFRESH-INTERVAL;VALUE=DURATION:PT1H
X-Robots-Tag:noindex
X-PUBLISHED-TTL:PT1H
BEGIN:VTIMEZONE
TZID:Europe/Amsterdam
BEGIN:DAYLIGHT
TZOFFSETFROM:+0100
TZOFFSETTO:+0200
TZNAME:CEST
DTSTART:20250330T010000
END:DAYLIGHT
BEGIN:STANDARD
TZOFFSETFROM:+0200
TZOFFSETTO:+0100
TZNAME:CET
DTSTART:20251026T010000
END:STANDARD
BEGIN:DAYLIGHT
TZOFFSETFROM:+0100
TZOFFSETTO:+0200
TZNAME:CEST
DTSTART:20260329T010000
END:DAYLIGHT
BEGIN:STANDARD
TZOFFSETFROM:+0200
TZOFFSETTO:+0100
TZNAME:CET
DTSTART:20261025T010000
END:STANDARD
BEGIN:DAYLIGHT
TZOFFSETFROM:+0100
TZOFFSETTO:+0200
TZNAME:CEST
DTSTART:20270328T010000
END:DAYLIGHT
BEGIN:STANDARD
TZOFFSETFROM:+0200
TZOFFSETTO:+0100
TZNAME:CET
DTSTART:20271031T010000
END:STANDARD
END:VTIMEZONE
BEGIN:VEVENT
DTSTART;TZID=Europe/Amsterdam:20260830T080000
DTEND;TZID=Europe/Amsterdam:20260830T120000
DTSTAMP:20260421T070947
CREATED:20260212T174018Z
LAST-MODIFIED:20260312T064952Z
UID:6495-1788076800-1788091200@desnoek.nl
SUMMARY:Zomercompetitie (7e)
DESCRIPTION:Om mee te kunnen doen dien je je in te schrijven via het inschrijfformulier.Geen inschrijving\, geen deelname. Uiterlijke inschrijfdatum: zaterdag 07-07-2024 18:00 uurInschrijfgeld: Lidmaatschap vereistLoting tussen:6:15 en 6:30 vooraan op het parcours.Wedstrijd: NationaalWater: ZoetSportvisserijtype: WitvissenDoelgroep: Heren\, dames\, junioren 16+								\n				\n					\n		\n					\n		\n				\n						\n					\n			\n						\n				\n									\n					\n						\n						\n							\n									Download de uitslag als PDF
URL:https://desnoek.nl/events/zomercompetitie-7e-2026/
LOCATION:P. M. Spannenburg
CATEGORIES:Zomercompetitie
ORGANIZER;CN="HSV De Snoek":MAILTO:wedstrijdcommissie@desnoek.nl
END:VEVENT
BEGIN:VEVENT
DTSTART;TZID=Europe/Amsterdam:20260913T080000
DTEND;TZID=Europe/Amsterdam:20260913T120000
DTSTAMP:20260421T070947
CREATED:20260212T174929Z
LAST-MODIFIED:20260312T064932Z
UID:6500-1789286400-1789300800@desnoek.nl
SUMMARY:Zomercompetitie (8e)/Clubkampioenschap (3e)
DESCRIPTION:Om mee te kunnen doen dien je je in te schrijven via het inschrijfformulier.Geen inschrijving\, geen deelname. Uiterlijke inschrijfdatum: zaterdag 07-07-2024 18:00 uurInschrijfgeld: Lidmaatschap vereistLoting tussen:6:15 en 6:30 vooraan op het parcours.Wedstrijd: NationaalWater: ZoetSportvisserijtype: WitvissenDoelgroep: Heren\, dames\, junioren 16+								\n				\n					\n		\n					\n		\n				\n						\n					\n			\n						\n				\n									\n					\n						\n						\n							\n									Download de uitslag als PDF
URL:https://desnoek.nl/events/zomercompetitie-8e-clubkampioenschap-2026/
LOCATION:Helomavaart
CATEGORIES:Zomercompetitie
ORGANIZER;CN="HSV De Snoek":MAILTO:wedstrijdcommissie@desnoek.nl
END:VEVENT
BEGIN:VEVENT
DTSTART;TZID=Europe/Amsterdam:20260927T083000
DTEND;TZID=Europe/Amsterdam:20260927T123000
DTSTAMP:20260421T070947
CREATED:20260212T175526Z
LAST-MODIFIED:20260312T064904Z
UID:6506-1790497800-1790512200@desnoek.nl
SUMMARY:Zomercompetitie (9e)
DESCRIPTION:Om mee te kunnen doen dien je je in te schrijven via het inschrijfformulier.Geen inschrijving\, geen deelname. Uiterlijke inschrijfdatum: zaterdag 07-07-2024 18:00 uurInschrijfgeld: Lidmaatschap vereistLoting tussen:6:15 en 6:30 vooraan op het parcours.Wedstrijd: NationaalWater: ZoetSportvisserijtype: WitvissenDoelgroep: Heren\, dames\, junioren 16+								\n				\n					\n		\n					\n		\n				\n						\n					\n			\n						\n				\n									\n					\n						\n						\n							\n									Download de uitslag als PDF
URL:https://desnoek.nl/events/zomercompetitie-9e-2026/
LOCATION:Kanaal Heerenveen
CATEGORIES:Zomercompetitie
ORGANIZER;CN="HSV De Snoek":MAILTO:wedstrijdcommissie@desnoek.nl
END:VEVENT
BEGIN:VEVENT
DTSTART;TZID=Europe/Amsterdam:20261011T083000
DTEND;TZID=Europe/Amsterdam:20261011T123000
DTSTAMP:20260421T070947
CREATED:20260212T180250Z
LAST-MODIFIED:20260312T064814Z
UID:6514-1791707400-1791721800@desnoek.nl
SUMMARY:Zomercompetitie (10e)
DESCRIPTION:Om mee te kunnen doen dien je je in te schrijven via het inschrijfformulier.Geen inschrijving\, geen deelname. Uiterlijke inschrijfdatum: zaterdag 07-07-2024 18:00 uurInschrijfgeld: Lidmaatschap vereistLoting tussen:6:15 en 6:30 vooraan op het parcours.Wedstrijd: NationaalWater: ZoetSportvisserijtype: WitvissenDoelgroep: Heren\, dames\, junioren 16+								\n				\n					\n		\n					\n		\n				\n						\n					\n			\n						\n				\n									\n					\n						\n						\n							\n									Download de uitslag als PDF
URL:https://desnoek.nl/events/zomercompetitie-10e-2026/
LOCATION:Helomavaart
CATEGORIES:Zomercompetitie
ORGANIZER;CN="HSV De Snoek":MAILTO:wedstrijdcommissie@desnoek.nl
END:VEVENT
END:VCALENDAR